BEGIN:VCALENDAR
VERSION:2.0
PRODID:-//PG Lisse - ECPv6.15.20//NONSGML v1.0//EN
CALSCALE:GREGORIAN
METHOD:PUBLISH
X-ORIGINAL-URL:https://pglisse.nl
X-WR-CALDESC:Evenementen voor PG Lisse
REFRESH-INTERVAL;VALUE=DURATION:PT1H
X-Robots-Tag:noindex
X-PUBLISHED-TTL:PT1H
BEGIN:VTIMEZONE
TZID:Europe/Amsterdam
BEGIN:DAYLIGHT
TZOFFSETFROM:+0100
TZOFFSETTO:+0200
TZNAME:CEST
DTSTART:20250330T010000
END:DAYLIGHT
BEGIN:STANDARD
TZOFFSETFROM:+0200
TZOFFSETTO:+0100
TZNAME:CET
DTSTART:20251026T010000
END:STANDARD
BEGIN:DAYLIGHT
TZOFFSETFROM:+0100
TZOFFSETTO:+0200
TZNAME:CEST
DTSTART:20260329T010000
END:DAYLIGHT
BEGIN:STANDARD
TZOFFSETFROM:+0200
TZOFFSETTO:+0100
TZNAME:CET
DTSTART:20261025T010000
END:STANDARD
BEGIN:DAYLIGHT
TZOFFSETFROM:+0100
TZOFFSETTO:+0200
TZNAME:CEST
DTSTART:20270328T010000
END:DAYLIGHT
BEGIN:STANDARD
TZOFFSETFROM:+0200
TZOFFSETTO:+0100
TZNAME:CET
DTSTART:20271031T010000
END:STANDARD
END:VTIMEZONE
BEGIN:VEVENT
DTSTART;TZID=Europe/Amsterdam:20260426T100000
DTEND;TZID=Europe/Amsterdam:20260426T113000
DTSTAMP:20260424T084705
CREATED:20251026T130708Z
LAST-MODIFIED:20251026T130708Z
UID:4286-1777197600-1777203000@pglisse.nl
SUMMARY:Kerkdienst
DESCRIPTION:Ds. T. Doornebal
URL:https://pglisse.nl/event/kerkdienst-111/
LOCATION:Pauluskerk\, Ruishornlaan 33\, LISSE\, 2162 VW\, Nederland
CATEGORIES:Kerkdienst
END:VEVENT
BEGIN:VEVENT
DTSTART;TZID=Europe/Amsterdam:20260428T190000
DTEND;TZID=Europe/Amsterdam:20260428T220000
DTSTAMP:20260424T084705
CREATED:20250825T110735Z
LAST-MODIFIED:20250825T110735Z
UID:3907-1777402800-1777413600@pglisse.nl
SUMMARY:Diaconie
DESCRIPTION:
URL:https://pglisse.nl/event/diaconie-7/
LOCATION:Pauluskerk (Kerkelijk Bureau)\, Ruishornlaan 33\, LISSE\, 2162 VW
CATEGORIES:Vergadering
END:VEVENT
BEGIN:VEVENT
DTSTART;TZID=Europe/Amsterdam:20260503T100000
DTEND;TZID=Europe/Amsterdam:20260503T113000
DTSTAMP:20260424T084705
CREATED:20251026T130708Z
LAST-MODIFIED:20251026T130708Z
UID:4287-1777802400-1777807800@pglisse.nl
SUMMARY:Kerkdienst
DESCRIPTION:Ds. A. Moolenaar
URL:https://pglisse.nl/event/kerkdienst-112/
LOCATION:Pauluskerk\, Ruishornlaan 33\, LISSE\, 2162 VW\, Nederland
CATEGORIES:Kerkdienst
END:VEVENT
BEGIN:VEVENT
DTSTART;TZID=Europe/Amsterdam:20260504T140000
DTEND;TZID=Europe/Amsterdam:20260504T160000
DTSTAMP:20260424T084705
CREATED:20250825T105932Z
LAST-MODIFIED:20250825T105932Z
UID:3888-1777903200-1777910400@pglisse.nl
SUMMARY:Bijbelkring
DESCRIPTION:
URL:https://pglisse.nl/event/bijbelkring-8/
CATEGORIES:Groepsbijeenkomst
END:VEVENT
BEGIN:VEVENT
DTSTART;TZID=Europe/Amsterdam:20260506T193000
DTEND;TZID=Europe/Amsterdam:20260506T223000
DTSTAMP:20260424T084705
CREATED:20250825T110333Z
LAST-MODIFIED:20250825T110333Z
UID:3898-1778095800-1778106600@pglisse.nl
SUMMARY:CvK
DESCRIPTION:
URL:https://pglisse.nl/event/cvk-10/
LOCATION:Pauluskerk (Kerkelijk Bureau)\, Ruishornlaan 33\, LISSE\, 2162 VW
CATEGORIES:Vergadering
END:VEVENT
BEGIN:VEVENT
DTSTART;TZID=Europe/Amsterdam:20260510T100000
DTEND;TZID=Europe/Amsterdam:20260510T113000
DTSTAMP:20260424T084705
CREATED:20251026T130708Z
LAST-MODIFIED:20251026T130708Z
UID:4288-1778407200-1778412600@pglisse.nl
SUMMARY:Kerkdienst
DESCRIPTION:Ds. T. Doornebal
URL:https://pglisse.nl/event/kerkdienst-113/
LOCATION:Pauluskerk\, Ruishornlaan 33\, LISSE\, 2162 VW\, Nederland
CATEGORIES:Kerkdienst
END:VEVENT
BEGIN:VEVENT
DTSTART;TZID=Europe/Amsterdam:20260511T190000
DTEND;TZID=Europe/Amsterdam:20260511T200000
DTSTAMP:20260424T084705
CREATED:20250825T131240Z
LAST-MODIFIED:20250825T131240Z
UID:3944-1778526000-1778529600@pglisse.nl
SUMMARY:Rock Solid 12/13
DESCRIPTION:
URL:https://pglisse.nl/event/rock-solid-12-13-10/
LOCATION:Pauluskerk (Onderwaterzaal)\, Ruishornlaan 33\, LISSE\, 2162 VW\, Netherlands
CATEGORIES:Catechese
END:VEVENT
BEGIN:VEVENT
DTSTART;TZID=Europe/Amsterdam:20260511T190000
DTEND;TZID=Europe/Amsterdam:20260511T200000
DTSTAMP:20260424T084705
CREATED:20250825T131331Z
LAST-MODIFIED:20250825T131331Z
UID:3991-1778526000-1778529600@pglisse.nl
SUMMARY:RS catechese 16plus
DESCRIPTION:
URL:https://pglisse.nl/event/rs-catechese-16plus-8/
LOCATION:Pauluskerk (Benedenzaal rechts)\, Ruishornlaan 33\, LISSE\, 2162 VW
CATEGORIES:Catechese
END:VEVENT
BEGIN:VEVENT
DTSTART;TZID=Europe/Amsterdam:20260511T200000
DTEND;TZID=Europe/Amsterdam:20260511T210000
DTSTAMP:20260424T084705
CREATED:20250825T131256Z
LAST-MODIFIED:20250825T131256Z
UID:3955-1778529600-1778533200@pglisse.nl
SUMMARY:Rock Solid 14/15
DESCRIPTION:
URL:https://pglisse.nl/event/rock-solid-14-15-10/
LOCATION:Pauluskerk (Onderwaterzaal)\, Ruishornlaan 33\, LISSE\, 2162 VW\, Netherlands
CATEGORIES:Catechese
END:VEVENT
BEGIN:VEVENT
DTSTART;TZID=Europe/Amsterdam:20260512T190000
DTEND;TZID=Europe/Amsterdam:20260512T200000
DTSTAMP:20260424T084705
CREATED:20250825T111141Z
LAST-MODIFIED:20250825T111141Z
UID:3920-1778612400-1778616000@pglisse.nl
SUMMARY:Moderamen
DESCRIPTION:
URL:https://pglisse.nl/event/moderamen-5/
LOCATION:Pauluskerk (Kerkelijk Bureau)\, Ruishornlaan 33\, LISSE\, 2162 VW
CATEGORIES:Vergadering
END:VEVENT
BEGIN:VEVENT
DTSTART;TZID=Europe/Amsterdam:20260512T193000
DTEND;TZID=Europe/Amsterdam:20260512T220000
DTSTAMP:20260424T084705
CREATED:20250825T131401Z
LAST-MODIFIED:20250825T131401Z
UID:4030-1778614200-1778623200@pglisse.nl
SUMMARY:Vrouwenkring 50+
DESCRIPTION:
URL:https://pglisse.nl/event/vrouwenkring-50-7/
LOCATION:Pauluskerk (Benedenzaal rechts)\, Ruishornlaan 33\, LISSE\, 2162 VW
CATEGORIES:Groepsbijeenkomst
END:VEVENT
BEGIN:VEVENT
DTSTART;TZID=Europe/Amsterdam:20260512T200000
DTEND;TZID=Europe/Amsterdam:20260512T220000
DTSTAMP:20260424T084705
CREATED:20250825T131238Z
LAST-MODIFIED:20250825T131238Z
UID:3933-1778616000-1778623200@pglisse.nl
SUMMARY:Ouderlingenberaad
DESCRIPTION:
URL:https://pglisse.nl/event/ouderlingenberaad-5/
LOCATION:Pauluskerk (Benedenzaal rechts)\, Ruishornlaan 33\, LISSE\, 2162 VW
CATEGORIES:Vergadering
END:VEVENT
BEGIN:VEVENT
DTSTART;TZID=Europe/Amsterdam:20260514T193000
DTEND;TZID=Europe/Amsterdam:20260514T210000
DTSTAMP:20260424T084705
CREATED:20251026T130723Z
LAST-MODIFIED:20251026T130723Z
UID:4289-1778787000-1778792400@pglisse.nl
SUMMARY:Kerkdienst - Hemelvaartsdag
DESCRIPTION:Ds. T. Doornebal
URL:https://pglisse.nl/event/kerkdienst-hemelvaartsdag-3/
LOCATION:Pauluskerk\, Ruishornlaan 33\, LISSE\, 2162 VW\, Nederland
CATEGORIES:Kerkdienst
END:VEVENT
BEGIN:VEVENT
DTSTART;TZID=Europe/Amsterdam:20260517T100000
DTEND;TZID=Europe/Amsterdam:20260517T113000
DTSTAMP:20260424T084705
CREATED:20251026T130723Z
LAST-MODIFIED:20251026T130723Z
UID:4290-1779012000-1779017400@pglisse.nl
SUMMARY:Kerkdienst
DESCRIPTION:Ds. A. Moolenaar
URL:https://pglisse.nl/event/kerkdienst-114/
LOCATION:Pauluskerk\, Ruishornlaan 33\, LISSE\, 2162 VW\, Nederland
CATEGORIES:Kerkdienst
END:VEVENT
BEGIN:VEVENT
DTSTART;TZID=Europe/Amsterdam:20260519T200000
DTEND;TZID=Europe/Amsterdam:20260519T220000
DTSTAMP:20260424T084705
CREATED:20250825T110940Z
LAST-MODIFIED:20250825T110940Z
UID:3914-1779220800-1779228000@pglisse.nl
SUMMARY:Grote Kerkenraad
DESCRIPTION:
URL:https://pglisse.nl/event/grote-kerkenraad-5/
LOCATION:Pauluskerk (Benedenzaal rechts)\, Ruishornlaan 33\, LISSE\, 2162 VW
CATEGORIES:Vergadering
END:VEVENT
BEGIN:VEVENT
DTSTART;TZID=Europe/Amsterdam:20260524T100000
DTEND;TZID=Europe/Amsterdam:20260524T113000
DTSTAMP:20260424T084705
CREATED:20251026T130723Z
LAST-MODIFIED:20251026T130723Z
UID:4291-1779616800-1779622200@pglisse.nl
SUMMARY:Kerkdienst - Pinksteren
DESCRIPTION:Ds. A. Moolenaar
URL:https://pglisse.nl/event/kerkdienst-pinksteren-4/
LOCATION:Pauluskerk\, Ruishornlaan 33\, LISSE\, 2162 VW\, Nederland
CATEGORIES:Kerkdienst
END:VEVENT
BEGIN:VEVENT
DTSTART;TZID=Europe/Amsterdam:20260526T200000
DTEND;TZID=Europe/Amsterdam:20260526T220000
DTSTAMP:20260424T084705
CREATED:20250825T131332Z
LAST-MODIFIED:20250825T131332Z
UID:3994-1779825600-1779832800@pglisse.nl
SUMMARY:Werkgroep jongeren
DESCRIPTION:
URL:https://pglisse.nl/event/werkgroep-jongeren-3/
LOCATION:Pauluskerk (Onderwaterzaal)\, Ruishornlaan 33\, LISSE\, 2162 VW\, Netherlands
CATEGORIES:Vergadering
END:VEVENT
BEGIN:VEVENT
DTSTART;TZID=Europe/Amsterdam:20260528T200000
DTEND;TZID=Europe/Amsterdam:20260528T220000
DTSTAMP:20260424T084705
CREATED:20250825T131238Z
LAST-MODIFIED:20250825T131238Z
UID:3928-1779998400-1780005600@pglisse.nl
SUMMARY:Onderwegkring
DESCRIPTION:
URL:https://pglisse.nl/event/onderwegkring-7/
LOCATION:Pauluskerk (Benedenzaal rechts)\, Ruishornlaan 33\, LISSE\, 2162 VW
CATEGORIES:Groepsbijeenkomst
END:VEVENT
BEGIN:VEVENT
DTSTART;TZID=Europe/Amsterdam:20260531T100000
DTEND;TZID=Europe/Amsterdam:20260531T113000
DTSTAMP:20260424T084705
CREATED:20251026T130723Z
LAST-MODIFIED:20251026T130723Z
UID:4292-1780221600-1780227000@pglisse.nl
SUMMARY:Kerkdienst
DESCRIPTION:Ds. T. Doornebal
URL:https://pglisse.nl/event/kerkdienst-115/
LOCATION:Pauluskerk\, Ruishornlaan 33\, LISSE\, 2162 VW\, Nederland
CATEGORIES:Kerkdienst
END:VEVENT
BEGIN:VEVENT
DTSTART;TZID=Europe/Amsterdam:20260531T190000
DTEND;TZID=Europe/Amsterdam:20260531T203000
DTSTAMP:20260424T084705
CREATED:20251026T130723Z
LAST-MODIFIED:20251026T130723Z
UID:4293-1780254000-1780259400@pglisse.nl
SUMMARY:Kerkdienst
DESCRIPTION:Ds. A. Moolenaar
URL:https://pglisse.nl/event/kerkdienst-116/
LOCATION:Pauluskerk\, Ruishornlaan 33\, LISSE\, 2162 VW\, Nederland
CATEGORIES:Kerkdienst
END:VEVENT
BEGIN:VEVENT
DTSTART;TZID=Europe/Amsterdam:20260601T190000
DTEND;TZID=Europe/Amsterdam:20260601T200000
DTSTAMP:20260424T084705
CREATED:20250825T131258Z
LAST-MODIFIED:20250825T131258Z
UID:3966-1780340400-1780344000@pglisse.nl
SUMMARY:Rock Solid 16plus
DESCRIPTION:
URL:https://pglisse.nl/event/rock-solid-16plus-10/
LOCATION:Pauluskerk (Onderwaterzaal)\, Ruishornlaan 33\, LISSE\, 2162 VW\, Netherlands
CATEGORIES:Catechese
END:VEVENT
BEGIN:VEVENT
DTSTART;TZID=Europe/Amsterdam:20260601T190000
DTEND;TZID=Europe/Amsterdam:20260601T200000
DTSTAMP:20260424T084705
CREATED:20250825T131317Z
LAST-MODIFIED:20250825T131317Z
UID:3975-1780340400-1780344000@pglisse.nl
SUMMARY:RS catechese 12/13
DESCRIPTION:
URL:https://pglisse.nl/event/rs-catechese-12-13-8/
LOCATION:Pauluskerk (Benedenzaal rechts)\, Ruishornlaan 33\, LISSE\, 2162 VW
CATEGORIES:Catechese
END:VEVENT
BEGIN:VEVENT
DTSTART;TZID=Europe/Amsterdam:20260601T193000
DTEND;TZID=Europe/Amsterdam:20260601T223000
DTSTAMP:20260424T084705
CREATED:20250825T110333Z
LAST-MODIFIED:20250825T110333Z
UID:3899-1780342200-1780353000@pglisse.nl
SUMMARY:CvK
DESCRIPTION:
URL:https://pglisse.nl/event/cvk-11/
LOCATION:Pauluskerk (Kerkelijk Bureau)\, Ruishornlaan 33\, LISSE\, 2162 VW
CATEGORIES:Vergadering
END:VEVENT
BEGIN:VEVENT
DTSTART;TZID=Europe/Amsterdam:20260601T200000
DTEND;TZID=Europe/Amsterdam:20260601T220000
DTSTAMP:20260424T084705
CREATED:20250825T131318Z
LAST-MODIFIED:20250825T131318Z
UID:3983-1780344000-1780351200@pglisse.nl
SUMMARY:RS catechese 14/15
DESCRIPTION:
URL:https://pglisse.nl/event/rs-catechese-14-15-8/
LOCATION:Pauluskerk (Benedenzaal rechts)\, Ruishornlaan 33\, LISSE\, 2162 VW
CATEGORIES:Catechese
END:VEVENT
BEGIN:VEVENT
DTSTART;TZID=Europe/Amsterdam:20260602T190000
DTEND;TZID=Europe/Amsterdam:20260602T220000
DTSTAMP:20260424T084705
CREATED:20250825T110735Z
LAST-MODIFIED:20250825T110735Z
UID:3908-1780426800-1780437600@pglisse.nl
SUMMARY:Diaconie
DESCRIPTION:
URL:https://pglisse.nl/event/diaconie-8/
LOCATION:Pauluskerk (Kerkelijk Bureau)\, Ruishornlaan 33\, LISSE\, 2162 VW
CATEGORIES:Vergadering
END:VEVENT
BEGIN:VEVENT
DTSTART;TZID=Europe/Amsterdam:20260603T200000
DTEND;TZID=Europe/Amsterdam:20260603T220000
DTSTAMP:20260424T084705
CREATED:20250825T131349Z
LAST-MODIFIED:20250825T131349Z
UID:4020-1780516800-1780524000@pglisse.nl
SUMMARY:Werkgroep Vieren
DESCRIPTION:
URL:https://pglisse.nl/event/werkgroep-vieren-4/
LOCATION:Pauluskerk (Benedenzaal rechts)\, Ruishornlaan 33\, LISSE\, 2162 VW
CATEGORIES:Vergadering
END:VEVENT
BEGIN:VEVENT
DTSTART;TZID=Europe/Amsterdam:20260607T100000
DTEND;TZID=Europe/Amsterdam:20260607T113000
DTSTAMP:20260424T084705
CREATED:20251026T130738Z
LAST-MODIFIED:20251026T130738Z
UID:4294-1780826400-1780831800@pglisse.nl
SUMMARY:Kerkdienst
DESCRIPTION:Ds. T. Doornebal
URL:https://pglisse.nl/event/kerkdienst-117/
LOCATION:Pauluskerk\, Ruishornlaan 33\, LISSE\, 2162 VW\, Nederland
CATEGORIES:Kerkdienst
END:VEVENT
BEGIN:VEVENT
DTSTART;TZID=Europe/Amsterdam:20260609T200000
DTEND;TZID=Europe/Amsterdam:20260609T220000
DTSTAMP:20260424T084705
CREATED:20250825T131238Z
LAST-MODIFIED:20250825T131238Z
UID:3934-1781035200-1781042400@pglisse.nl
SUMMARY:Ouderlingenberaad
DESCRIPTION:
URL:https://pglisse.nl/event/ouderlingenberaad-6/
LOCATION:Pauluskerk (Benedenzaal rechts)\, Ruishornlaan 33\, LISSE\, 2162 VW
CATEGORIES:Vergadering
END:VEVENT
BEGIN:VEVENT
DTSTART;TZID=Europe/Amsterdam:20260614T100000
DTEND;TZID=Europe/Amsterdam:20260614T113000
DTSTAMP:20260424T084705
CREATED:20251026T130738Z
LAST-MODIFIED:20251026T130738Z
UID:4295-1781431200-1781436600@pglisse.nl
SUMMARY:Kerkdienst
DESCRIPTION:Ds. A. Moolenaar
URL:https://pglisse.nl/event/kerkdienst-118/
LOCATION:Pauluskerk\, Ruishornlaan 33\, LISSE\, 2162 VW\, Nederland
CATEGORIES:Kerkdienst
END:VEVENT
BEGIN:VEVENT
DTSTART;TZID=Europe/Amsterdam:20260615T190000
DTEND;TZID=Europe/Amsterdam:20260615T200000
DTSTAMP:20260424T084705
CREATED:20250825T131240Z
LAST-MODIFIED:20250825T131240Z
UID:3945-1781550000-1781553600@pglisse.nl
SUMMARY:Rock Solid 12/13
DESCRIPTION:
URL:https://pglisse.nl/event/rock-solid-12-13-11/
LOCATION:Pauluskerk (Onderwaterzaal)\, Ruishornlaan 33\, LISSE\, 2162 VW\, Netherlands
CATEGORIES:Catechese
END:VEVENT
END:VCALENDAR