BEGIN:VCALENDAR
VERSION:2.0
PRODID:-//PG Lisse - ECPv6.15.20//NONSGML v1.0//EN
CALSCALE:GREGORIAN
METHOD:PUBLISH
X-ORIGINAL-URL:https://pglisse.nl
X-WR-CALDESC:Evenementen voor PG Lisse
REFRESH-INTERVAL;VALUE=DURATION:PT1H
X-Robots-Tag:noindex
X-PUBLISHED-TTL:PT1H
BEGIN:VTIMEZONE
TZID:Europe/Amsterdam
BEGIN:DAYLIGHT
TZOFFSETFROM:+0100
TZOFFSETTO:+0200
TZNAME:CEST
DTSTART:20250330T010000
END:DAYLIGHT
BEGIN:STANDARD
TZOFFSETFROM:+0200
TZOFFSETTO:+0100
TZNAME:CET
DTSTART:20251026T010000
END:STANDARD
BEGIN:DAYLIGHT
TZOFFSETFROM:+0100
TZOFFSETTO:+0200
TZNAME:CEST
DTSTART:20260329T010000
END:DAYLIGHT
BEGIN:STANDARD
TZOFFSETFROM:+0200
TZOFFSETTO:+0100
TZNAME:CET
DTSTART:20261025T010000
END:STANDARD
BEGIN:DAYLIGHT
TZOFFSETFROM:+0100
TZOFFSETTO:+0200
TZNAME:CEST
DTSTART:20270328T010000
END:DAYLIGHT
BEGIN:STANDARD
TZOFFSETFROM:+0200
TZOFFSETTO:+0100
TZNAME:CET
DTSTART:20271031T010000
END:STANDARD
END:VTIMEZONE
BEGIN:VEVENT
DTSTART;TZID=Europe/Amsterdam:20260308T100000
DTEND;TZID=Europe/Amsterdam:20260308T113000
DTSTAMP:20260424T155255
CREATED:20251026T130623Z
LAST-MODIFIED:20251026T130623Z
UID:4270-1772964000-1772969400@pglisse.nl
SUMMARY:Kerkdienst - 3e zondag veertigdagentijd
DESCRIPTION:Ds. A. Moolenaar
URL:https://pglisse.nl/event/kerkdienst-3e-zondag-veertigdagentijd-3/
LOCATION:Pauluskerk\, Ruishornlaan 33\, LISSE\, 2162 VW\, Nederland
CATEGORIES:Kerkdienst
END:VEVENT
END:VCALENDAR