BEGIN:VCALENDAR
VERSION:2.0
PRODID:-//PG Lisse - ECPv6.15.20//NONSGML v1.0//EN
CALSCALE:GREGORIAN
METHOD:PUBLISH
X-WR-CALNAME:PG Lisse
X-ORIGINAL-URL:https://pglisse.nl
X-WR-CALDESC:Evenementen voor PG Lisse
REFRESH-INTERVAL;VALUE=DURATION:PT1H
X-Robots-Tag:noindex
X-PUBLISHED-TTL:PT1H
BEGIN:VTIMEZONE
TZID:Europe/Amsterdam
BEGIN:DAYLIGHT
TZOFFSETFROM:+0100
TZOFFSETTO:+0200
TZNAME:CEST
DTSTART:20250330T010000
END:DAYLIGHT
BEGIN:STANDARD
TZOFFSETFROM:+0200
TZOFFSETTO:+0100
TZNAME:CET
DTSTART:20251026T010000
END:STANDARD
BEGIN:DAYLIGHT
TZOFFSETFROM:+0100
TZOFFSETTO:+0200
TZNAME:CEST
DTSTART:20260329T010000
END:DAYLIGHT
BEGIN:STANDARD
TZOFFSETFROM:+0200
TZOFFSETTO:+0100
TZNAME:CET
DTSTART:20261025T010000
END:STANDARD
BEGIN:DAYLIGHT
TZOFFSETFROM:+0100
TZOFFSETTO:+0200
TZNAME:CEST
DTSTART:20270328T010000
END:DAYLIGHT
BEGIN:STANDARD
TZOFFSETFROM:+0200
TZOFFSETTO:+0100
TZNAME:CET
DTSTART:20271031T010000
END:STANDARD
END:VTIMEZONE
BEGIN:VEVENT
DTSTART;TZID=Europe/Amsterdam:20260222T100000
DTEND;TZID=Europe/Amsterdam:20260222T113000
DTSTAMP:20260424T173848
CREATED:20251026T130609Z
LAST-MODIFIED:20251026T130609Z
UID:4267-1771754400-1771759800@pglisse.nl
SUMMARY:Kerkdienst - 1e zondag veertigdagentijd
DESCRIPTION:Ds. A. Moolenaar
URL:https://pglisse.nl/event/kerkdienst-1e-zondag-veertigdagentijd-3/
LOCATION:Pauluskerk\, Ruishornlaan 33\, LISSE\, 2162 VW\, Nederland
CATEGORIES:Kerkdienst
END:VEVENT
BEGIN:VEVENT
DTSTART;TZID=Europe/Amsterdam:20260222T190000
DTEND;TZID=Europe/Amsterdam:20260222T203000
DTSTAMP:20260424T173848
CREATED:20251026T130609Z
LAST-MODIFIED:20251026T130609Z
UID:4268-1771786800-1771792200@pglisse.nl
SUMMARY:Kerkdienst
DESCRIPTION:Ds. T. Doornebal
URL:https://pglisse.nl/event/kerkdienst-107/
LOCATION:Pauluskerk\, Ruishornlaan 33\, LISSE\, 2162 VW\, Nederland
CATEGORIES:Kerkdienst
END:VEVENT
END:VCALENDAR